BEGIN:VCALENDAR
VERSION:2.0
PRODID:-//Callanwolde - ECPv6.15.20//NONSGML v1.0//EN
CALSCALE:GREGORIAN
METHOD:PUBLISH
X-WR-CALNAME:Callanwolde
X-ORIGINAL-URL:https://callanwolde.org
X-WR-CALDESC:Events for Callanwolde
REFRESH-INTERVAL;VALUE=DURATION:PT1H
X-Robots-Tag:noindex
X-PUBLISHED-TTL:PT1H
BEGIN:VTIMEZONE
TZID:America/New_York
BEGIN:DAYLIGHT
TZOFFSETFROM:-0500
TZOFFSETTO:-0400
TZNAME:EDT
DTSTART:19690427T070000
END:DAYLIGHT
BEGIN:STANDARD
TZOFFSETFROM:-0400
TZOFFSETTO:-0500
TZNAME:EST
DTSTART:19691026T060000
END:STANDARD
BEGIN:DAYLIGHT
TZOFFSETFROM:-0500
TZOFFSETTO:-0400
TZNAME:EDT
DTSTART:19700426T070000
END:DAYLIGHT
BEGIN:STANDARD
TZOFFSETFROM:-0400
TZOFFSETTO:-0500
TZNAME:EST
DTSTART:19701025T060000
END:STANDARD
BEGIN:DAYLIGHT
TZOFFSETFROM:-0500
TZOFFSETTO:-0400
TZNAME:EDT
DTSTART:19710425T070000
END:DAYLIGHT
BEGIN:STANDARD
TZOFFSETFROM:-0400
TZOFFSETTO:-0500
TZNAME:EST
DTSTART:19711031T060000
END:STANDARD
BEGIN:DAYLIGHT
TZOFFSETFROM:-0500
TZOFFSETTO:-0400
TZNAME:EDT
DTSTART:19720430T070000
END:DAYLIGHT
BEGIN:STANDARD
TZOFFSETFROM:-0400
TZOFFSETTO:-0500
TZNAME:EST
DTSTART:19721029T060000
END:STANDARD
BEGIN:DAYLIGHT
TZOFFSETFROM:-0500
TZOFFSETTO:-0400
TZNAME:EDT
DTSTART:19730429T070000
END:DAYLIGHT
BEGIN:STANDARD
TZOFFSETFROM:-0400
TZOFFSETTO:-0500
TZNAME:EST
DTSTART:19731028T060000
END:STANDARD
BEGIN:DAYLIGHT
TZOFFSETFROM:-0500
TZOFFSETTO:-0400
TZNAME:EDT
DTSTART:19740106T070000
END:DAYLIGHT
BEGIN:STANDARD
TZOFFSETFROM:-0400
TZOFFSETTO:-0500
TZNAME:EST
DTSTART:19741027T060000
END:STANDARD
BEGIN:DAYLIGHT
TZOFFSETFROM:-0500
TZOFFSETTO:-0400
TZNAME:EDT
DTSTART:19750223T070000
END:DAYLIGHT
BEGIN:STANDARD
TZOFFSETFROM:-0400
TZOFFSETTO:-0500
TZNAME:EST
DTSTART:19751026T060000
END:STANDARD
BEGIN:DAYLIGHT
TZOFFSETFROM:-0500
TZOFFSETTO:-0400
TZNAME:EDT
DTSTART:19760425T070000
END:DAYLIGHT
BEGIN:STANDARD
TZOFFSETFROM:-0400
TZOFFSETTO:-0500
TZNAME:EST
DTSTART:19761031T060000
END:STANDARD
BEGIN:DAYLIGHT
TZOFFSETFROM:-0500
TZOFFSETTO:-0400
TZNAME:EDT
DTSTART:19770424T070000
END:DAYLIGHT
BEGIN:STANDARD
TZOFFSETFROM:-0400
TZOFFSETTO:-0500
TZNAME:EST
DTSTART:19771030T060000
END:STANDARD
BEGIN:DAYLIGHT
TZOFFSETFROM:-0500
TZOFFSETTO:-0400
TZNAME:EDT
DTSTART:19780430T070000
END:DAYLIGHT
BEGIN:STANDARD
TZOFFSETFROM:-0400
TZOFFSETTO:-0500
TZNAME:EST
DTSTART:19781029T060000
END:STANDARD
BEGIN:DAYLIGHT
TZOFFSETFROM:-0500
TZOFFSETTO:-0400
TZNAME:EDT
DTSTART:19790429T070000
END:DAYLIGHT
BEGIN:STANDARD
TZOFFSETFROM:-0400
TZOFFSETTO:-0500
TZNAME:EST
DTSTART:19791028T060000
END:STANDARD
BEGIN:DAYLIGHT
TZOFFSETFROM:-0500
TZOFFSETTO:-0400
TZNAME:EDT
DTSTART:19800427T070000
END:DAYLIGHT
BEGIN:STANDARD
TZOFFSETFROM:-0400
TZOFFSETTO:-0500
TZNAME:EST
DTSTART:19801026T060000
END:STANDARD
BEGIN:DAYLIGHT
TZOFFSETFROM:-0500
TZOFFSETTO:-0400
TZNAME:EDT
DTSTART:19810426T070000
END:DAYLIGHT
BEGIN:STANDARD
TZOFFSETFROM:-0400
TZOFFSETTO:-0500
TZNAME:EST
DTSTART:19811025T060000
END:STANDARD
BEGIN:DAYLIGHT
TZOFFSETFROM:-0500
TZOFFSETTO:-0400
TZNAME:EDT
DTSTART:19820425T070000
END:DAYLIGHT
BEGIN:STANDARD
TZOFFSETFROM:-0400
TZOFFSETTO:-0500
TZNAME:EST
DTSTART:19821031T060000
END:STANDARD
BEGIN:DAYLIGHT
TZOFFSETFROM:-0500
TZOFFSETTO:-0400
TZNAME:EDT
DTSTART:19830424T070000
END:DAYLIGHT
BEGIN:STANDARD
TZOFFSETFROM:-0400
TZOFFSETTO:-0500
TZNAME:EST
DTSTART:19831030T060000
END:STANDARD
BEGIN:DAYLIGHT
TZOFFSETFROM:-0500
TZOFFSETTO:-0400
TZNAME:EDT
DTSTART:19840429T070000
END:DAYLIGHT
BEGIN:STANDARD
TZOFFSETFROM:-0400
TZOFFSETTO:-0500
TZNAME:EST
DTSTART:19841028T060000
END:STANDARD
BEGIN:DAYLIGHT
TZOFFSETFROM:-0500
TZOFFSETTO:-0400
TZNAME:EDT
DTSTART:19850428T070000
END:DAYLIGHT
BEGIN:STANDARD
TZOFFSETFROM:-0400
TZOFFSETTO:-0500
TZNAME:EST
DTSTART:19851027T060000
END:STANDARD
BEGIN:DAYLIGHT
TZOFFSETFROM:-0500
TZOFFSETTO:-0400
TZNAME:EDT
DTSTART:19860427T070000
END:DAYLIGHT
BEGIN:STANDARD
TZOFFSETFROM:-0400
TZOFFSETTO:-0500
TZNAME:EST
DTSTART:19861026T060000
END:STANDARD
BEGIN:DAYLIGHT
TZOFFSETFROM:-0500
TZOFFSETTO:-0400
TZNAME:EDT
DTSTART:19870405T070000
END:DAYLIGHT
BEGIN:STANDARD
TZOFFSETFROM:-0400
TZOFFSETTO:-0500
TZNAME:EST
DTSTART:19871025T060000
END:STANDARD
BEGIN:DAYLIGHT
TZOFFSETFROM:-0500
TZOFFSETTO:-0400
TZNAME:EDT
DTSTART:19880403T070000
END:DAYLIGHT
BEGIN:STANDARD
TZOFFSETFROM:-0400
TZOFFSETTO:-0500
TZNAME:EST
DTSTART:19881030T060000
END:STANDARD
BEGIN:DAYLIGHT
TZOFFSETFROM:-0500
TZOFFSETTO:-0400
TZNAME:EDT
DTSTART:19890402T070000
END:DAYLIGHT
BEGIN:STANDARD
TZOFFSETFROM:-0400
TZOFFSETTO:-0500
TZNAME:EST
DTSTART:19891029T060000
END:STANDARD
BEGIN:DAYLIGHT
TZOFFSETFROM:-0500
TZOFFSETTO:-0400
TZNAME:EDT
DTSTART:19900401T070000
END:DAYLIGHT
BEGIN:STANDARD
TZOFFSETFROM:-0400
TZOFFSETTO:-0500
TZNAME:EST
DTSTART:19901028T060000
END:STANDARD
BEGIN:DAYLIGHT
TZOFFSETFROM:-0500
TZOFFSETTO:-0400
TZNAME:EDT
DTSTART:19910407T070000
END:DAYLIGHT
BEGIN:STANDARD
TZOFFSETFROM:-0400
TZOFFSETTO:-0500
TZNAME:EST
DTSTART:19911027T060000
END:STANDARD
BEGIN:DAYLIGHT
TZOFFSETFROM:-0500
TZOFFSETTO:-0400
TZNAME:EDT
DTSTART:19920405T070000
END:DAYLIGHT
BEGIN:STANDARD
TZOFFSETFROM:-0400
TZOFFSETTO:-0500
TZNAME:EST
DTSTART:19921025T060000
END:STANDARD
BEGIN:DAYLIGHT
TZOFFSETFROM:-0500
TZOFFSETTO:-0400
TZNAME:EDT
DTSTART:19930404T070000
END:DAYLIGHT
BEGIN:STANDARD
TZOFFSETFROM:-0400
TZOFFSETTO:-0500
TZNAME:EST
DTSTART:19931031T060000
END:STANDARD
BEGIN:DAYLIGHT
TZOFFSETFROM:-0500
TZOFFSETTO:-0400
TZNAME:EDT
DTSTART:19940403T070000
END:DAYLIGHT
BEGIN:STANDARD
TZOFFSETFROM:-0400
TZOFFSETTO:-0500
TZNAME:EST
DTSTART:19941030T060000
END:STANDARD
BEGIN:DAYLIGHT
TZOFFSETFROM:-0500
TZOFFSETTO:-0400
TZNAME:EDT
DTSTART:19950402T070000
END:DAYLIGHT
BEGIN:STANDARD
TZOFFSETFROM:-0400
TZOFFSETTO:-0500
TZNAME:EST
DTSTART:19951029T060000
END:STANDARD
BEGIN:DAYLIGHT
TZOFFSETFROM:-0500
TZOFFSETTO:-0400
TZNAME:EDT
DTSTART:19960407T070000
END:DAYLIGHT
BEGIN:STANDARD
TZOFFSETFROM:-0400
TZOFFSETTO:-0500
TZNAME:EST
DTSTART:19961027T060000
END:STANDARD
BEGIN:DAYLIGHT
TZOFFSETFROM:-0500
TZOFFSETTO:-0400
TZNAME:EDT
DTSTART:19970406T070000
END:DAYLIGHT
BEGIN:STANDARD
TZOFFSETFROM:-0400
TZOFFSETTO:-0500
TZNAME:EST
DTSTART:19971026T060000
END:STANDARD
BEGIN:DAYLIGHT
TZOFFSETFROM:-0500
TZOFFSETTO:-0400
TZNAME:EDT
DTSTART:19980405T070000
END:DAYLIGHT
BEGIN:STANDARD
TZOFFSETFROM:-0400
TZOFFSETTO:-0500
TZNAME:EST
DTSTART:19981025T060000
END:STANDARD
BEGIN:DAYLIGHT
TZOFFSETFROM:-0500
TZOFFSETTO:-0400
TZNAME:EDT
DTSTART:19990404T070000
END:DAYLIGHT
BEGIN:STANDARD
TZOFFSETFROM:-0400
TZOFFSETTO:-0500
TZNAME:EST
DTSTART:19991031T060000
END:STANDARD
BEGIN:DAYLIGHT
TZOFFSETFROM:-0500
TZOFFSETTO:-0400
TZNAME:EDT
DTSTART:20000402T070000
END:DAYLIGHT
BEGIN:STANDARD
TZOFFSETFROM:-0400
TZOFFSETTO:-0500
TZNAME:EST
DTSTART:20001029T060000
END:STANDARD
BEGIN:DAYLIGHT
TZOFFSETFROM:-0500
TZOFFSETTO:-0400
TZNAME:EDT
DTSTART:20010401T070000
END:DAYLIGHT
BEGIN:STANDARD
TZOFFSETFROM:-0400
TZOFFSETTO:-0500
TZNAME:EST
DTSTART:20011028T060000
END:STANDARD
BEGIN:DAYLIGHT
TZOFFSETFROM:-0500
TZOFFSETTO:-0400
TZNAME:EDT
DTSTART:20020407T070000
END:DAYLIGHT
BEGIN:STANDARD
TZOFFSETFROM:-0400
TZOFFSETTO:-0500
TZNAME:EST
DTSTART:20021027T060000
END:STANDARD
BEGIN:DAYLIGHT
TZOFFSETFROM:-0500
TZOFFSETTO:-0400
TZNAME:EDT
DTSTART:20030406T070000
END:DAYLIGHT
BEGIN:STANDARD
TZOFFSETFROM:-0400
TZOFFSETTO:-0500
TZNAME:EST
DTSTART:20031026T060000
END:STANDARD
BEGIN:DAYLIGHT
TZOFFSETFROM:-0500
TZOFFSETTO:-0400
TZNAME:EDT
DTSTART:20040404T070000
END:DAYLIGHT
BEGIN:STANDARD
TZOFFSETFROM:-0400
TZOFFSETTO:-0500
TZNAME:EST
DTSTART:20041031T060000
END:STANDARD
BEGIN:DAYLIGHT
TZOFFSETFROM:-0500
TZOFFSETTO:-0400
TZNAME:EDT
DTSTART:20050403T070000
END:DAYLIGHT
BEGIN:STANDARD
TZOFFSETFROM:-0400
TZOFFSETTO:-0500
TZNAME:EST
DTSTART:20051030T060000
END:STANDARD
BEGIN:DAYLIGHT
TZOFFSETFROM:-0500
TZOFFSETTO:-0400
TZNAME:EDT
DTSTART:20060402T070000
END:DAYLIGHT
BEGIN:STANDARD
TZOFFSETFROM:-0400
TZOFFSETTO:-0500
TZNAME:EST
DTSTART:20061029T060000
END:STANDARD
BEGIN:DAYLIGHT
TZOFFSETFROM:-0500
TZOFFSETTO:-0400
TZNAME:EDT
DTSTART:20070311T070000
END:DAYLIGHT
BEGIN:STANDARD
TZOFFSETFROM:-0400
TZOFFSETTO:-0500
TZNAME:EST
DTSTART:20071104T060000
END:STANDARD
BEGIN:DAYLIGHT
TZOFFSETFROM:-0500
TZOFFSETTO:-0400
TZNAME:EDT
DTSTART:20080309T070000
END:DAYLIGHT
BEGIN:STANDARD
TZOFFSETFROM:-0400
TZOFFSETTO:-0500
TZNAME:EST
DTSTART:20081102T060000
END:STANDARD
BEGIN:DAYLIGHT
TZOFFSETFROM:-0500
TZOFFSETTO:-0400
TZNAME:EDT
DTSTART:20090308T070000
END:DAYLIGHT
BEGIN:STANDARD
TZOFFSETFROM:-0400
TZOFFSETTO:-0500
TZNAME:EST
DTSTART:20091101T060000
END:STANDARD
BEGIN:DAYLIGHT
TZOFFSETFROM:-0500
TZOFFSETTO:-0400
TZNAME:EDT
DTSTART:20100314T070000
END:DAYLIGHT
BEGIN:STANDARD
TZOFFSETFROM:-0400
TZOFFSETTO:-0500
TZNAME:EST
DTSTART:20101107T060000
END:STANDARD
BEGIN:DAYLIGHT
TZOFFSETFROM:-0500
TZOFFSETTO:-0400
TZNAME:EDT
DTSTART:20110313T070000
END:DAYLIGHT
BEGIN:STANDARD
TZOFFSETFROM:-0400
TZOFFSETTO:-0500
TZNAME:EST
DTSTART:20111106T060000
END:STANDARD
BEGIN:DAYLIGHT
TZOFFSETFROM:-0500
TZOFFSETTO:-0400
TZNAME:EDT
DTSTART:20120311T070000
END:DAYLIGHT
BEGIN:STANDARD
TZOFFSETFROM:-0400
TZOFFSETTO:-0500
TZNAME:EST
DTSTART:20121104T060000
END:STANDARD
BEGIN:DAYLIGHT
TZOFFSETFROM:-0500
TZOFFSETTO:-0400
TZNAME:EDT
DTSTART:20130310T070000
END:DAYLIGHT
BEGIN:STANDARD
TZOFFSETFROM:-0400
TZOFFSETTO:-0500
TZNAME:EST
DTSTART:20131103T060000
END:STANDARD
BEGIN:DAYLIGHT
TZOFFSETFROM:-0500
TZOFFSETTO:-0400
TZNAME:EDT
DTSTART:20140309T070000
END:DAYLIGHT
BEGIN:STANDARD
TZOFFSETFROM:-0400
TZOFFSETTO:-0500
TZNAME:EST
DTSTART:20141102T060000
END:STANDARD
BEGIN:DAYLIGHT
TZOFFSETFROM:-0500
TZOFFSETTO:-0400
TZNAME:EDT
DTSTART:20150308T070000
END:DAYLIGHT
BEGIN:STANDARD
TZOFFSETFROM:-0400
TZOFFSETTO:-0500
TZNAME:EST
DTSTART:20151101T060000
END:STANDARD
BEGIN:DAYLIGHT
TZOFFSETFROM:-0500
TZOFFSETTO:-0400
TZNAME:EDT
DTSTART:20160313T070000
END:DAYLIGHT
BEGIN:STANDARD
TZOFFSETFROM:-0400
TZOFFSETTO:-0500
TZNAME:EST
DTSTART:20161106T060000
END:STANDARD
BEGIN:DAYLIGHT
TZOFFSETFROM:-0500
TZOFFSETTO:-0400
TZNAME:EDT
DTSTART:20170312T070000
END:DAYLIGHT
BEGIN:STANDARD
TZOFFSETFROM:-0400
TZOFFSETTO:-0500
TZNAME:EST
DTSTART:20171105T060000
END:STANDARD
BEGIN:DAYLIGHT
TZOFFSETFROM:-0500
TZOFFSETTO:-0400
TZNAME:EDT
DTSTART:20180311T070000
END:DAYLIGHT
BEGIN:STANDARD
TZOFFSETFROM:-0400
TZOFFSETTO:-0500
TZNAME:EST
DTSTART:20181104T060000
END:STANDARD
BEGIN:DAYLIGHT
TZOFFSETFROM:-0500
TZOFFSETTO:-0400
TZNAME:EDT
DTSTART:20190310T070000
END:DAYLIGHT
BEGIN:STANDARD
TZOFFSETFROM:-0400
TZOFFSETTO:-0500
TZNAME:EST
DTSTART:20191103T060000
END:STANDARD
BEGIN:DAYLIGHT
TZOFFSETFROM:-0500
TZOFFSETTO:-0400
TZNAME:EDT
DTSTART:20200308T070000
END:DAYLIGHT
BEGIN:STANDARD
TZOFFSETFROM:-0400
TZOFFSETTO:-0500
TZNAME:EST
DTSTART:20201101T060000
END:STANDARD
BEGIN:DAYLIGHT
TZOFFSETFROM:-0500
TZOFFSETTO:-0400
TZNAME:EDT
DTSTART:20210314T070000
END:DAYLIGHT
BEGIN:STANDARD
TZOFFSETFROM:-0400
TZOFFSETTO:-0500
TZNAME:EST
DTSTART:20211107T060000
END:STANDARD
BEGIN:DAYLIGHT
TZOFFSETFROM:-0500
TZOFFSETTO:-0400
TZNAME:EDT
DTSTART:20220313T070000
END:DAYLIGHT
BEGIN:STANDARD
TZOFFSETFROM:-0400
TZOFFSETTO:-0500
TZNAME:EST
DTSTART:20221106T060000
END:STANDARD
BEGIN:DAYLIGHT
TZOFFSETFROM:-0500
TZOFFSETTO:-0400
TZNAME:EDT
DTSTART:20230312T070000
END:DAYLIGHT
BEGIN:STANDARD
TZOFFSETFROM:-0400
TZOFFSETTO:-0500
TZNAME:EST
DTSTART:20231105T060000
END:STANDARD
BEGIN:DAYLIGHT
TZOFFSETFROM:-0500
TZOFFSETTO:-0400
TZNAME:EDT
DTSTART:20240310T070000
END:DAYLIGHT
BEGIN:STANDARD
TZOFFSETFROM:-0400
TZOFFSETTO:-0500
TZNAME:EST
DTSTART:20241103T060000
END:STANDARD
BEGIN:DAYLIGHT
TZOFFSETFROM:-0500
TZOFFSETTO:-0400
TZNAME:EDT
DTSTART:20250309T070000
END:DAYLIGHT
BEGIN:STANDARD
TZOFFSETFROM:-0400
TZOFFSETTO:-0500
TZNAME:EST
DTSTART:20251102T060000
END:STANDARD
BEGIN:DAYLIGHT
TZOFFSETFROM:-0500
TZOFFSETTO:-0400
TZNAME:EDT
DTSTART:20260308T070000
END:DAYLIGHT
BEGIN:STANDARD
TZOFFSETFROM:-0400
TZOFFSETTO:-0500
TZNAME:EST
DTSTART:20261101T060000
END:STANDARD
BEGIN:DAYLIGHT
TZOFFSETFROM:-0500
TZOFFSETTO:-0400
TZNAME:EDT
DTSTART:20270314T070000
END:DAYLIGHT
BEGIN:STANDARD
TZOFFSETFROM:-0400
TZOFFSETTO:-0500
TZNAME:EST
DTSTART:20271107T060000
END:STANDARD
END:VTIMEZONE
BEGIN:VEVENT
DTSTART;TZID=America/New_York:20260419T113505
DTEND;TZID=America/New_York:20260518T120000
DTSTAMP:20260419T113505
CREATED:20260312T153513Z
LAST-MODIFIED:20260312T153513Z
UID:10002519-0-1779105600@callanwolde.org
SUMMARY:POT 10 - Beginning Wheel (Berman)
DESCRIPTION:This is the perfect entry level class for beginning wheel students. It will cover the basic techniques of throwing\, glazing\, and firing. Students will also learn the important safety guidelines and procedures of the ceramics studio. Projects on the wheel will focus on small forms (cups\, bowls\, saucers).
URL:https://callanwolde.org/event/pot-10-beginning-wheel-berman-2/1970-01-01/
LOCATION:Callanwolde Fine Arts Center\, 980 Briarcliff Rd NE\, Atlanta\, GA\, 30306\, United States
CATEGORIES:Art Classes,Pottery & Ceramics
END:VEVENT
BEGIN:VEVENT
DTSTART;TZID=America/New_York:20260323T180000
DTEND;TZID=America/New_York:20260518T190000
DTSTAMP:20260419T113505
CREATED:20260312T144450Z
LAST-MODIFIED:20260312T144450Z
UID:10002529-1774288800-1779130800@callanwolde.org
SUMMARY:VWELL 02 - Advanced Tai Chi (Harrell)
DESCRIPTION:The advanced class works on the Wu Style saber and long forms. All classes will be held on zoom.
URL:https://callanwolde.org/event/vwell-02-advanced-tai-chi-harrell/2026-03-23/
LOCATION:Callanwolde Fine Arts Center\, 980 Briarcliff Rd NE\, Atlanta\, GA\, 30306\, United States
CATEGORIES:Art Classes,Wellness Arts
END:VEVENT
BEGIN:VEVENT
DTSTART;TZID=America/New_York:20260330T180000
DTEND;TZID=America/New_York:20260525T190000
DTSTAMP:20260419T113505
CREATED:20260312T144450Z
LAST-MODIFIED:20260312T144450Z
UID:10002530-1774893600-1779735600@callanwolde.org
SUMMARY:VWELL 02 - Advanced Tai Chi (Harrell)
DESCRIPTION:The advanced class works on the Wu Style saber and long forms. All classes will be held on zoom.
URL:https://callanwolde.org/event/vwell-02-advanced-tai-chi-harrell/2026-03-30/
LOCATION:Callanwolde Fine Arts Center\, 980 Briarcliff Rd NE\, Atlanta\, GA\, 30306\, United States
CATEGORIES:Art Classes,Wellness Arts
END:VEVENT
BEGIN:VEVENT
DTSTART;TZID=America/New_York:20260406T180000
DTEND;TZID=America/New_York:20260601T190000
DTSTAMP:20260419T113505
CREATED:20260312T144450Z
LAST-MODIFIED:20260312T144450Z
UID:10002531-1775498400-1780340400@callanwolde.org
SUMMARY:VWELL 02 - Advanced Tai Chi (Harrell)
DESCRIPTION:The advanced class works on the Wu Style saber and long forms. All classes will be held on zoom.
URL:https://callanwolde.org/event/vwell-02-advanced-tai-chi-harrell/2026-04-06/
LOCATION:Callanwolde Fine Arts Center\, 980 Briarcliff Rd NE\, Atlanta\, GA\, 30306\, United States
CATEGORIES:Art Classes,Wellness Arts
END:VEVENT
BEGIN:VEVENT
DTSTART;TZID=America/New_York:20260413T180000
DTEND;TZID=America/New_York:20260608T190000
DTSTAMP:20260419T113505
CREATED:20260312T144450Z
LAST-MODIFIED:20260312T144450Z
UID:10002532-1776103200-1780945200@callanwolde.org
SUMMARY:VWELL 02 - Advanced Tai Chi (Harrell)
DESCRIPTION:The advanced class works on the Wu Style saber and long forms. All classes will be held on zoom.
URL:https://callanwolde.org/event/vwell-02-advanced-tai-chi-harrell/2026-04-13/
LOCATION:Callanwolde Fine Arts Center\, 980 Briarcliff Rd NE\, Atlanta\, GA\, 30306\, United States
CATEGORIES:Art Classes,Wellness Arts
END:VEVENT
BEGIN:VEVENT
DTSTART;TZID=America/New_York:20260419T100000
DTEND;TZID=America/New_York:20260419T130000
DTSTAMP:20260419T113505
CREATED:20260312T173451Z
LAST-MODIFIED:20260312T173451Z
UID:10002945-1776592800-1776603600@callanwolde.org
SUMMARY:JWY 06 - Beginning/Intermediate Metalsmithing and Jewelry Design (Gindler)
DESCRIPTION:This course will teach traditional metalsmithing skills including sawing\, piercing\, texturing\, shaping\, and forming metal; soldering and cold connections\, and bezel-setting cabochon gemstones. It is appropriate for beginners with no previous experience with metalsmithing\, as well as for intermediate students. Students will learn to use and care for the tools of the craft\, and will use them to make art jewelry of their own design\, with an emphasis on wearability and comfort. Except for silver and gemstones\, which students need to purchase themselves\, all tools and materials will be provided and available in the studio. Supply sources will be discussed in the first class.
URL:https://callanwolde.org/event/jwy-06-beginning-intermediate-metalsmithing-and-jewelry-design-gindler/2026-04-19/
LOCATION:Callanwolde Fine Arts Center\, 980 Briarcliff Rd NE\, Atlanta\, GA\, 30306\, United States
CATEGORIES:Art Classes,Jewelry Making & Metalsmithing
END:VEVENT
BEGIN:VEVENT
DTSTART;TZID=America/New_York:20260419T100000
DTEND;TZID=America/New_York:20260419T150000
DTSTAMP:20260419T113505
CREATED:20260312T182924Z
LAST-MODIFIED:20260312T182924Z
UID:10002456-1776592800-1776610800@callanwolde.org
SUMMARY:WPOT 24 - Raku & Sagger Fire Workshop
DESCRIPTION:In this hands-on workshop students learn to decorate and fire using westernized raku methods using combustible materials to create striking glaze results that vary depending on the way the flames and oxygen react to create vibrant colors and/or crackle effects. We also will do one special firing using aluminum sagger techniques for unique effects. – Raku firing is low fire\, and will not be water tight. Pots should be for decorative\, non-food uses. Sculptures and decorative pottery forms are best\, but any bisque fired pieces will work. – Bring a meal for our thirty minute lunch break. – Bring 5-10 small to midsize pieces or three large pieces to fire. All glazes and materials will be included. – All work must be bisque fired prior to the workshop. – Handmade bisqueware will be available to purchase for students to use if they don’t have enough of their own work to fire. – For safety and comfort\, wear natural fibers clothing and closed toe shoes. No synthetic clothing or open toe shoes and sandals. Flame\, water\, and soot will likely create a dirty and smoky experience\, so wear clothing that you will not mind getting dirty and possibly stained Instructors: Doug Tobin\, Julia Burns
URL:https://callanwolde.org/event/wpot-24-raku-sagger-fire-workshop/
LOCATION:Callanwolde Fine Arts Center\, 980 Briarcliff Rd NE\, Atlanta\, GA\, 30306\, United States
CATEGORIES:Art Classes,Pottery & Ceramics
END:VEVENT
BEGIN:VEVENT
DTSTART;TZID=America/New_York:20260419T133000
DTEND;TZID=America/New_York:20260419T163000
DTSTAMP:20260419T113505
CREATED:20260122T160955Z
LAST-MODIFIED:20260122T190827Z
UID:10001254-1776605400-1776616200@callanwolde.org
SUMMARY:BLA 05 - Introduction/Intermediate Blacksmithing (Teens & Adults)
DESCRIPTION:This course offers introductory instruction to the forging\, forming\, cutting\, and joining skills of blacksmithing. Students will learn basic blacksmith safety\, how to start and manage a solid fuel forge\, the heat treatment of tool steel\, and how to forge weld. Projects range from hooks\, stylized leaves\, a two-tined fork\, cold cut chisel\, tong jaws\, and a seasonally themed capstone project. Returning students will have the option of forging a selection of heads and figures. The selection of projects includes but is not limited to: skeletons\, horses\, cats\, owls\, rats\, wizards\, dogs\, rams\, and dragons. Intermediate students may also work with the instructor on other independent projects of their own choosing. Materials will be discussed in the first class; fuel for the student’s forge as well as the mild and tool steel for planned projects are provided by the studio. Students will need to wear 100% natural fiber flame retardant fibers like cotton or wool. No synthetic fibers or blends. Long sleeve shirts and pants that cover tops of footwear. Footwear must be leather or cotton canvas shoes that fully enclose feet. About the Instructor: Garrett lives in Decatur and is a member of the ABANA and Alex Bealer Blacksmith Association of Georgia. He enjoys blacksmithing\, dry stone masonry\, and building log cabins.
URL:https://callanwolde.org/event/bla-05-introduction-intermediate-blacksmithing-teens-adults/2026-04-19/
LOCATION:Callanwolde Fine Arts Center\, 980 Briarcliff Rd NE\, Atlanta\, GA\, 30306\, United States
CATEGORIES:Art Classes,Blacksmithing
END:VEVENT
BEGIN:VEVENT
DTSTART;TZID=America/New_York:20260419T133000
DTEND;TZID=America/New_York:20260419T163000
DTSTAMP:20260419T113505
CREATED:20260312T183425Z
LAST-MODIFIED:20260312T183425Z
UID:10003044-1776605400-1776616200@callanwolde.org
SUMMARY:BLA 05 - Introduction/Intermediate Blacksmithing (Teens & Adults)
DESCRIPTION:This course offers introductory instruction to the forging\, forming\, cutting\, and joining skills of blacksmithing. Students will learn basic blacksmith safety\, how to start and manage a solid fuel forge\, the heat treatment of tool steel\, and how to forge weld. Projects range from hooks\, stylized leaves\, a two-tined fork\, cold cut chisel\, tong jaws\, and a seasonally themed capstone project. \nReturning students will have the option of forging a selection of heads and figures. The selection of projects includes but is not limited to: skeletons\, horses\, cats\, owls\, rats\, wizards\, dogs\, rams\, and dragons. Intermediate students may also work with the instructor on other independent projects of their own choosing. \nMaterials will be discussed in the first class; fuel for the student’s forge as well as the mild and tool steel for planned projects are provided by the studio. \nStudents will need to wear 100% natural fiber flame retardant fibers like cotton or wool. No synthetic fibers or blends. Long sleeve shirts and pants that cover tops of footwear. Footwear must be leather or cotton canvas shoes that fully enclose feet.
URL:https://callanwolde.org/event/bla-05-introduction-intermediate-blacksmithing-teens-adults-2/2026-04-19/
LOCATION:Callanwolde Fine Arts Center\, 980 Briarcliff Rd NE\, Atlanta\, GA\, 30306\, United States
CATEGORIES:Art Classes,Blacksmithing
END:VEVENT
BEGIN:VEVENT
DTSTART;TZID=America/New_York:20260419T140000
DTEND;TZID=America/New_York:20260419T170000
DTSTAMP:20260419T113505
CREATED:20260312T155750Z
LAST-MODIFIED:20260312T155750Z
UID:10002667-1776607200-1776618000@callanwolde.org
SUMMARY:WRI 01 -  Eco Poetry (Javits)
DESCRIPTION:Eco Poetry Workshop is a creative and generative class for anyone interested in writing poetry that listens closely to the living world around us. We’ll explore how poems can reflect our deep connections to land\, climate\, animals\, language\, and place. Forrest Gander reminds us that ecopoetry asks “how we are involved in—and a part of—all that surrounds us\,” offering insight into the complex relationships between nature and culture. Through reading contemporary ecopoets\, sharing work\, and writing prompts\, participants will develop poems that respond to the environment with curiosity and imagination. Open to all levels of poets.
URL:https://callanwolde.org/event/wri-01-eco-poetry-javits/2026-04-19/
LOCATION:Callanwolde Fine Arts Center\, 980 Briarcliff Rd NE\, Atlanta\, GA\, 30306\, United States
CATEGORIES:Art Classes,Writing
END:VEVENT
BEGIN:VEVENT
DTSTART;TZID=America/New_York:20260419T140000
DTEND;TZID=America/New_York:20260419T170000
DTSTAMP:20260419T113505
CREATED:20260312T165404Z
LAST-MODIFIED:20260312T165404Z
UID:10002724-1776607200-1776618000@callanwolde.org
SUMMARY:JWY 10 - Independent Studio with Direction (Intermediate and Up)(Morgan)
DESCRIPTION:Work on your own designs with instructor guidance. If you have ideas you’ve been thinking about but are unsure how to execute\, this is the class for you. We can troubleshoot your designs together.
URL:https://callanwolde.org/event/jwy-10-independent-studio-with-direction-intermediate-and-upmorgan/2026-04-19/
LOCATION:Callanwolde Fine Arts Center\, 980 Briarcliff Rd NE\, Atlanta\, GA\, 30306\, United States
CATEGORIES:Art Classes,Jewelry Making & Metalsmithing
END:VEVENT
END:VCALENDAR