BEGIN:VCALENDAR
VERSION:2.0
PRODID:-//Callanwolde - ECPv6.15.20//NONSGML v1.0//EN
CALSCALE:GREGORIAN
METHOD:PUBLISH
X-WR-CALNAME:Callanwolde
X-ORIGINAL-URL:https://callanwolde.org
X-WR-CALDESC:Events for Callanwolde
REFRESH-INTERVAL;VALUE=DURATION:PT1H
X-Robots-Tag:noindex
X-PUBLISHED-TTL:PT1H
BEGIN:VTIMEZONE
TZID:America/New_York
BEGIN:DAYLIGHT
TZOFFSETFROM:-0500
TZOFFSETTO:-0400
TZNAME:EDT
DTSTART:20250309T070000
END:DAYLIGHT
BEGIN:STANDARD
TZOFFSETFROM:-0400
TZOFFSETTO:-0500
TZNAME:EST
DTSTART:20251102T060000
END:STANDARD
BEGIN:DAYLIGHT
TZOFFSETFROM:-0500
TZOFFSETTO:-0400
TZNAME:EDT
DTSTART:20260308T070000
END:DAYLIGHT
BEGIN:STANDARD
TZOFFSETFROM:-0400
TZOFFSETTO:-0500
TZNAME:EST
DTSTART:20261101T060000
END:STANDARD
BEGIN:DAYLIGHT
TZOFFSETFROM:-0500
TZOFFSETTO:-0400
TZNAME:EDT
DTSTART:20270314T070000
END:DAYLIGHT
BEGIN:STANDARD
TZOFFSETFROM:-0400
TZOFFSETTO:-0500
TZNAME:EST
DTSTART:20271107T060000
END:STANDARD
END:VTIMEZONE
BEGIN:VEVENT
DTSTART;TZID=America/New_York:20260423T180000
DTEND;TZID=America/New_York:20260423T213000
DTSTAMP:20260420T113716
CREATED:20260312T172531Z
LAST-MODIFIED:20260312T172531Z
UID:10002901-1776967200-1776979800@callanwolde.org
SUMMARY:PHO 03 - Darkroom Workshop (Durham)
DESCRIPTION:This hands-on workshop offers both an introduction and a continuing study of black-and-white film development and silver gelatin printing. Ideal for beginners learning the process for the first time or photographers looking to refresh their darkroom skills\, students learn to develop film and make traditional silver gelatin darkroom prints. Chemistry is provided; students supply their own film and paper. Extra darkroom time is available on Saturdays for those wishing to practice independently.
URL:https://callanwolde.org/event/pho-03-darkroom-workshop-durham-2/2026-04-23/
LOCATION:Callanwolde Fine Arts Center\, 980 Briarcliff Rd NE\, Atlanta\, GA\, 30306\, United States
CATEGORIES:Art Classes,Photography
END:VEVENT
BEGIN:VEVENT
DTSTART;TZID=America/New_York:20260430T180000
DTEND;TZID=America/New_York:20260430T213000
DTSTAMP:20260420T113716
CREATED:20260312T172531Z
LAST-MODIFIED:20260312T172531Z
UID:10002902-1777572000-1777584600@callanwolde.org
SUMMARY:PHO 03 - Darkroom Workshop (Durham)
DESCRIPTION:This hands-on workshop offers both an introduction and a continuing study of black-and-white film development and silver gelatin printing. Ideal for beginners learning the process for the first time or photographers looking to refresh their darkroom skills\, students learn to develop film and make traditional silver gelatin darkroom prints. Chemistry is provided; students supply their own film and paper. Extra darkroom time is available on Saturdays for those wishing to practice independently.
URL:https://callanwolde.org/event/pho-03-darkroom-workshop-durham-2/2026-04-30/
LOCATION:Callanwolde Fine Arts Center\, 980 Briarcliff Rd NE\, Atlanta\, GA\, 30306\, United States
CATEGORIES:Art Classes,Photography
END:VEVENT
BEGIN:VEVENT
DTSTART;TZID=America/New_York:20260507T180000
DTEND;TZID=America/New_York:20260507T213000
DTSTAMP:20260420T113716
CREATED:20260312T172531Z
LAST-MODIFIED:20260312T172531Z
UID:10002903-1778176800-1778189400@callanwolde.org
SUMMARY:PHO 03 - Darkroom Workshop (Durham)
DESCRIPTION:This hands-on workshop offers both an introduction and a continuing study of black-and-white film development and silver gelatin printing. Ideal for beginners learning the process for the first time or photographers looking to refresh their darkroom skills\, students learn to develop film and make traditional silver gelatin darkroom prints. Chemistry is provided; students supply their own film and paper. Extra darkroom time is available on Saturdays for those wishing to practice independently.
URL:https://callanwolde.org/event/pho-03-darkroom-workshop-durham-2/2026-05-07/
LOCATION:Callanwolde Fine Arts Center\, 980 Briarcliff Rd NE\, Atlanta\, GA\, 30306\, United States
CATEGORIES:Art Classes,Photography
END:VEVENT
BEGIN:VEVENT
DTSTART;TZID=America/New_York:20260514T180000
DTEND;TZID=America/New_York:20260514T213000
DTSTAMP:20260420T113716
CREATED:20260312T172531Z
LAST-MODIFIED:20260312T172531Z
UID:10002904-1778781600-1778794200@callanwolde.org
SUMMARY:PHO 03 - Darkroom Workshop (Durham)
DESCRIPTION:This hands-on workshop offers both an introduction and a continuing study of black-and-white film development and silver gelatin printing. Ideal for beginners learning the process for the first time or photographers looking to refresh their darkroom skills\, students learn to develop film and make traditional silver gelatin darkroom prints. Chemistry is provided; students supply their own film and paper. Extra darkroom time is available on Saturdays for those wishing to practice independently.
URL:https://callanwolde.org/event/pho-03-darkroom-workshop-durham-2/2026-05-14/
LOCATION:Callanwolde Fine Arts Center\, 980 Briarcliff Rd NE\, Atlanta\, GA\, 30306\, United States
CATEGORIES:Art Classes,Photography
END:VEVENT
BEGIN:VEVENT
DTSTART;TZID=America/New_York:20260521T180000
DTEND;TZID=America/New_York:20260521T213000
DTSTAMP:20260420T113716
CREATED:20260312T172531Z
LAST-MODIFIED:20260312T172531Z
UID:10002905-1779386400-1779399000@callanwolde.org
SUMMARY:PHO 03 - Darkroom Workshop (Durham)
DESCRIPTION:This hands-on workshop offers both an introduction and a continuing study of black-and-white film development and silver gelatin printing. Ideal for beginners learning the process for the first time or photographers looking to refresh their darkroom skills\, students learn to develop film and make traditional silver gelatin darkroom prints. Chemistry is provided; students supply their own film and paper. Extra darkroom time is available on Saturdays for those wishing to practice independently.
URL:https://callanwolde.org/event/pho-03-darkroom-workshop-durham-2/2026-05-21/
LOCATION:Callanwolde Fine Arts Center\, 980 Briarcliff Rd NE\, Atlanta\, GA\, 30306\, United States
CATEGORIES:Art Classes,Photography
END:VEVENT
END:VCALENDAR