BEGIN:VCALENDAR
VERSION:2.0
PRODID:-//Callanwolde - ECPv6.15.20//NONSGML v1.0//EN
CALSCALE:GREGORIAN
METHOD:PUBLISH
X-WR-CALNAME:Callanwolde
X-ORIGINAL-URL:https://callanwolde.org
X-WR-CALDESC:Events for Callanwolde
REFRESH-INTERVAL;VALUE=DURATION:PT1H
X-Robots-Tag:noindex
X-PUBLISHED-TTL:PT1H
BEGIN:VTIMEZONE
TZID:America/New_York
BEGIN:DAYLIGHT
TZOFFSETFROM:-0500
TZOFFSETTO:-0400
TZNAME:EDT
DTSTART:20250309T070000
END:DAYLIGHT
BEGIN:STANDARD
TZOFFSETFROM:-0400
TZOFFSETTO:-0500
TZNAME:EST
DTSTART:20251102T060000
END:STANDARD
BEGIN:DAYLIGHT
TZOFFSETFROM:-0500
TZOFFSETTO:-0400
TZNAME:EDT
DTSTART:20260308T070000
END:DAYLIGHT
BEGIN:STANDARD
TZOFFSETFROM:-0400
TZOFFSETTO:-0500
TZNAME:EST
DTSTART:20261101T060000
END:STANDARD
BEGIN:DAYLIGHT
TZOFFSETFROM:-0500
TZOFFSETTO:-0400
TZNAME:EDT
DTSTART:20270314T070000
END:DAYLIGHT
BEGIN:STANDARD
TZOFFSETFROM:-0400
TZOFFSETTO:-0500
TZNAME:EST
DTSTART:20271107T060000
END:STANDARD
END:VTIMEZONE
BEGIN:VEVENT
DTSTART;TZID=America/New_York:20260420T190000
DTEND;TZID=America/New_York:20260420T213000
DTSTAMP:20260419T120828
CREATED:20260312T174119Z
LAST-MODIFIED:20260312T174119Z
UID:10002974-1776711600-1776720600@callanwolde.org
SUMMARY:POT 11 - Beginning Wheel (Strange)
DESCRIPTION:This is the perfect entry level class for beginning wheel students. It will cover the basic techniques of throwing\, glazing\, and firing. Students will also learn the important safety guidelines and procedures of the ceramics studio. Projects on the wheel will focus on small forms (cups\, bowls\, saucers). \nFor all virtual and onsite Pottery classes\, the tuition includes a $98 pass-through supply fee\, which covers the cost of one bag of stoneware\, raku\, or Lizella earthenware clay (first bags of porcelain are available for an additional $5 cost)\, glazes\, and 2\,000 cubic inches of firing space. The supply fee does NOT include tools\, students provide their own tools. Additional clay and tools may be purchased from the studio (credit card only). All work fired at Callanwolde must be produced in the Pottery Program studios (no outside work allowed). \nPaid Studio Access\nBasement\, Handbuilding (indoors and outdoors)\, Carriage House\, Sculpture\, and Glaze Studio Access.\nFor a cost of $50 (plus sales tax) per quarter\, students may opt in for additional studio access time between morning and evening classes.\nPaid Studio Access Hours:\nMonday – Thursday: 12:00 PM – 6:30 PM\nFriday: 9:30 AM – 9:30 PM\nSaturday: 9:30 AM – 2:00 PM\nIncludes Sunday: 9:30 AM – 2:00 PM \nStudents who do not opt for the paid studio access may use the studio without charge 1 ½ hours after morning classes\, 1 ½ hours before evening classes and Sundays 9:30 AM – 2:00 PM.
URL:https://callanwolde.org/event/pot-11-beginning-wheel-strange-2/2026-04-20/
LOCATION:Callanwolde Fine Arts Center\, 980 Briarcliff Rd NE\, Atlanta\, GA\, 30306\, United States
CATEGORIES:Art Classes,Pottery & Ceramics
END:VEVENT
BEGIN:VEVENT
DTSTART;TZID=America/New_York:20260427T190000
DTEND;TZID=America/New_York:20260427T213000
DTSTAMP:20260419T120828
CREATED:20260312T174119Z
LAST-MODIFIED:20260312T174119Z
UID:10002975-1777316400-1777325400@callanwolde.org
SUMMARY:POT 11 - Beginning Wheel (Strange)
DESCRIPTION:This is the perfect entry level class for beginning wheel students. It will cover the basic techniques of throwing\, glazing\, and firing. Students will also learn the important safety guidelines and procedures of the ceramics studio. Projects on the wheel will focus on small forms (cups\, bowls\, saucers). \nFor all virtual and onsite Pottery classes\, the tuition includes a $98 pass-through supply fee\, which covers the cost of one bag of stoneware\, raku\, or Lizella earthenware clay (first bags of porcelain are available for an additional $5 cost)\, glazes\, and 2\,000 cubic inches of firing space. The supply fee does NOT include tools\, students provide their own tools. Additional clay and tools may be purchased from the studio (credit card only). All work fired at Callanwolde must be produced in the Pottery Program studios (no outside work allowed). \nPaid Studio Access\nBasement\, Handbuilding (indoors and outdoors)\, Carriage House\, Sculpture\, and Glaze Studio Access.\nFor a cost of $50 (plus sales tax) per quarter\, students may opt in for additional studio access time between morning and evening classes.\nPaid Studio Access Hours:\nMonday – Thursday: 12:00 PM – 6:30 PM\nFriday: 9:30 AM – 9:30 PM\nSaturday: 9:30 AM – 2:00 PM\nIncludes Sunday: 9:30 AM – 2:00 PM \nStudents who do not opt for the paid studio access may use the studio without charge 1 ½ hours after morning classes\, 1 ½ hours before evening classes and Sundays 9:30 AM – 2:00 PM.
URL:https://callanwolde.org/event/pot-11-beginning-wheel-strange-2/2026-04-27/
LOCATION:Callanwolde Fine Arts Center\, 980 Briarcliff Rd NE\, Atlanta\, GA\, 30306\, United States
CATEGORIES:Art Classes,Pottery & Ceramics
END:VEVENT
BEGIN:VEVENT
DTSTART;TZID=America/New_York:20260504T190000
DTEND;TZID=America/New_York:20260504T213000
DTSTAMP:20260419T120828
CREATED:20260312T174119Z
LAST-MODIFIED:20260312T174119Z
UID:10002976-1777921200-1777930200@callanwolde.org
SUMMARY:POT 11 - Beginning Wheel (Strange)
DESCRIPTION:This is the perfect entry level class for beginning wheel students. It will cover the basic techniques of throwing\, glazing\, and firing. Students will also learn the important safety guidelines and procedures of the ceramics studio. Projects on the wheel will focus on small forms (cups\, bowls\, saucers). \nFor all virtual and onsite Pottery classes\, the tuition includes a $98 pass-through supply fee\, which covers the cost of one bag of stoneware\, raku\, or Lizella earthenware clay (first bags of porcelain are available for an additional $5 cost)\, glazes\, and 2\,000 cubic inches of firing space. The supply fee does NOT include tools\, students provide their own tools. Additional clay and tools may be purchased from the studio (credit card only). All work fired at Callanwolde must be produced in the Pottery Program studios (no outside work allowed). \nPaid Studio Access\nBasement\, Handbuilding (indoors and outdoors)\, Carriage House\, Sculpture\, and Glaze Studio Access.\nFor a cost of $50 (plus sales tax) per quarter\, students may opt in for additional studio access time between morning and evening classes.\nPaid Studio Access Hours:\nMonday – Thursday: 12:00 PM – 6:30 PM\nFriday: 9:30 AM – 9:30 PM\nSaturday: 9:30 AM – 2:00 PM\nIncludes Sunday: 9:30 AM – 2:00 PM \nStudents who do not opt for the paid studio access may use the studio without charge 1 ½ hours after morning classes\, 1 ½ hours before evening classes and Sundays 9:30 AM – 2:00 PM.
URL:https://callanwolde.org/event/pot-11-beginning-wheel-strange-2/2026-05-04/
LOCATION:Callanwolde Fine Arts Center\, 980 Briarcliff Rd NE\, Atlanta\, GA\, 30306\, United States
CATEGORIES:Art Classes,Pottery & Ceramics
END:VEVENT
BEGIN:VEVENT
DTSTART;TZID=America/New_York:20260511T190000
DTEND;TZID=America/New_York:20260511T213000
DTSTAMP:20260419T120828
CREATED:20260312T174119Z
LAST-MODIFIED:20260312T174119Z
UID:10002977-1778526000-1778535000@callanwolde.org
SUMMARY:POT 11 - Beginning Wheel (Strange)
DESCRIPTION:This is the perfect entry level class for beginning wheel students. It will cover the basic techniques of throwing\, glazing\, and firing. Students will also learn the important safety guidelines and procedures of the ceramics studio. Projects on the wheel will focus on small forms (cups\, bowls\, saucers). \nFor all virtual and onsite Pottery classes\, the tuition includes a $98 pass-through supply fee\, which covers the cost of one bag of stoneware\, raku\, or Lizella earthenware clay (first bags of porcelain are available for an additional $5 cost)\, glazes\, and 2\,000 cubic inches of firing space. The supply fee does NOT include tools\, students provide their own tools. Additional clay and tools may be purchased from the studio (credit card only). All work fired at Callanwolde must be produced in the Pottery Program studios (no outside work allowed). \nPaid Studio Access\nBasement\, Handbuilding (indoors and outdoors)\, Carriage House\, Sculpture\, and Glaze Studio Access.\nFor a cost of $50 (plus sales tax) per quarter\, students may opt in for additional studio access time between morning and evening classes.\nPaid Studio Access Hours:\nMonday – Thursday: 12:00 PM – 6:30 PM\nFriday: 9:30 AM – 9:30 PM\nSaturday: 9:30 AM – 2:00 PM\nIncludes Sunday: 9:30 AM – 2:00 PM \nStudents who do not opt for the paid studio access may use the studio without charge 1 ½ hours after morning classes\, 1 ½ hours before evening classes and Sundays 9:30 AM – 2:00 PM.
URL:https://callanwolde.org/event/pot-11-beginning-wheel-strange-2/2026-05-11/
LOCATION:Callanwolde Fine Arts Center\, 980 Briarcliff Rd NE\, Atlanta\, GA\, 30306\, United States
CATEGORIES:Art Classes,Pottery & Ceramics
END:VEVENT
BEGIN:VEVENT
DTSTART;TZID=America/New_York:20260518T190000
DTEND;TZID=America/New_York:20260518T213000
DTSTAMP:20260419T120828
CREATED:20260312T174119Z
LAST-MODIFIED:20260312T174119Z
UID:10002978-1779130800-1779139800@callanwolde.org
SUMMARY:POT 11 - Beginning Wheel (Strange)
DESCRIPTION:This is the perfect entry level class for beginning wheel students. It will cover the basic techniques of throwing\, glazing\, and firing. Students will also learn the important safety guidelines and procedures of the ceramics studio. Projects on the wheel will focus on small forms (cups\, bowls\, saucers). \nFor all virtual and onsite Pottery classes\, the tuition includes a $98 pass-through supply fee\, which covers the cost of one bag of stoneware\, raku\, or Lizella earthenware clay (first bags of porcelain are available for an additional $5 cost)\, glazes\, and 2\,000 cubic inches of firing space. The supply fee does NOT include tools\, students provide their own tools. Additional clay and tools may be purchased from the studio (credit card only). All work fired at Callanwolde must be produced in the Pottery Program studios (no outside work allowed). \nPaid Studio Access\nBasement\, Handbuilding (indoors and outdoors)\, Carriage House\, Sculpture\, and Glaze Studio Access.\nFor a cost of $50 (plus sales tax) per quarter\, students may opt in for additional studio access time between morning and evening classes.\nPaid Studio Access Hours:\nMonday – Thursday: 12:00 PM – 6:30 PM\nFriday: 9:30 AM – 9:30 PM\nSaturday: 9:30 AM – 2:00 PM\nIncludes Sunday: 9:30 AM – 2:00 PM \nStudents who do not opt for the paid studio access may use the studio without charge 1 ½ hours after morning classes\, 1 ½ hours before evening classes and Sundays 9:30 AM – 2:00 PM.
URL:https://callanwolde.org/event/pot-11-beginning-wheel-strange-2/2026-05-18/
LOCATION:Callanwolde Fine Arts Center\, 980 Briarcliff Rd NE\, Atlanta\, GA\, 30306\, United States
CATEGORIES:Art Classes,Pottery & Ceramics
END:VEVENT
END:VCALENDAR